Package: beachmat.hdf5 Version: 1.6.0 Command: /home/biocbuild/bbs-3.21-bioc/R/bin/R CMD build --keep-empty-dirs --no-resave-data beachmat.hdf5 StartedAt: 2025-10-01 16:23:10 -0400 (Wed, 01 Oct 2025) EndedAt: 2025-10-01 16:24:24 -0400 (Wed, 01 Oct 2025) EllapsedTime: 74.1 seconds RetCode: 0 Status: OK PackageFile: beachmat.hdf5_1.6.0.tar.gz PackageFileSize: 297.3 KiB