Package: beachmat.hdf5 Version: 1.6.0 Command: rm -rf beachmat.hdf5.buildbin-libdir && mkdir beachmat.hdf5.buildbin-libdir && /Users/biocbuild/BBS/utils/build-universal.sh beachmat.hdf5_1.6.0.tar.gz /Library/Frameworks/R.framework/Resources/bin/R beachmat.hdf5.buildbin-libdir StartedAt: 2025-09-30 12:42:38 -0400 (Tue, 30 Sep 2025) EndedAt: 2025-09-30 12:44:42 -0400 (Tue, 30 Sep 2025) EllapsedTime: 124.2 seconds RetCode: 0 Status: OK PackageFile: beachmat.hdf5_1.6.0.tgz PackageFileSize: 2.014 MiB