Package: beachmat.hdf5 Version: 1.6.0 Command: /home/biocbuild/R/R/bin/R CMD INSTALL beachmat.hdf5 StartedAt: 2025-09-29 20:51:32 -0000 (Mon, 29 Sep 2025) EndedAt: 2025-09-29 20:53:07 -0000 (Mon, 29 Sep 2025) EllapsedTime: 94.7 seconds RetCode: 0 Status: OK