Package: beachmat.hdf5 Version: 1.6.0 Command: /home/biocbuild/R/R/bin/R CMD check --install=check:beachmat.hdf5.install-out.txt --library=/home/biocbuild/R/R/site-library --no-vignettes --timings beachmat.hdf5_1.6.0.tar.gz StartedAt: 2025-09-30 07:05:00 -0000 (Tue, 30 Sep 2025) EndedAt: 2025-09-30 07:07:56 -0000 (Tue, 30 Sep 2025) EllapsedTime: 176.2 seconds RetCode: 0 Status: WARNINGS CheckDir: beachmat.hdf5.Rcheck Warnings: 1