Package: baySeq Version: 2.42.0 Command: /Library/Frameworks/R.framework/Resources/bin/R CMD build --keep-empty-dirs --no-resave-data baySeq StartedAt: 2025-10-13 17:13:49 -0400 (Mon, 13 Oct 2025) EndedAt: 2025-10-13 17:31:55 -0400 (Mon, 13 Oct 2025) EllapsedTime: 1085.4 seconds RetCode: 0 Status: OK PackageFile: baySeq_2.42.0.tar.gz PackageFileSize: 1.124 MiB