Package: batchelor Version: 1.24.0 Command: /Library/Frameworks/R.framework/Resources/bin/R CMD INSTALL batchelor StartedAt: 2025-09-29 16:32:54 -0400 (Mon, 29 Sep 2025) EndedAt: 2025-09-29 16:34:27 -0400 (Mon, 29 Sep 2025) EllapsedTime: 93.1 seconds RetCode: 0 Status: OK