Package: batchelor Version: 1.24.0 Command: /Library/Frameworks/R.framework/Resources/bin/R CMD check --install=check:batchelor.install-out.txt --library=/Library/Frameworks/R.framework/Resources/library --no-vignettes --timings batchelor_1.24.0.tar.gz StartedAt: 2025-09-30 00:20:24 -0400 (Tue, 30 Sep 2025) EndedAt: 2025-09-30 00:34:45 -0400 (Tue, 30 Sep 2025) EllapsedTime: 861.2 seconds RetCode: 0 Status: OK CheckDir: batchelor.Rcheck Warnings: 0