Package: batchelor Version: 1.24.0 Command: /Library/Frameworks/R.framework/Resources/bin/R CMD build --keep-empty-dirs --no-resave-data batchelor StartedAt: 2025-09-29 17:11:54 -0400 (Mon, 29 Sep 2025) EndedAt: 2025-09-29 17:18:31 -0400 (Mon, 29 Sep 2025) EllapsedTime: 396.2 seconds RetCode: 0 Status: OK PackageFile: batchelor_1.24.0.tar.gz PackageFileSize: 2.034 MiB