Package: basecallQC Version: 1.32.0 Command: /Library/Frameworks/R.framework/Resources/bin/R CMD check --install=check:basecallQC.install-out.txt --library=/Library/Frameworks/R.framework/Resources/library --no-vignettes --timings basecallQC_1.32.0.tar.gz StartedAt: 2025-10-14 00:16:57 -0400 (Tue, 14 Oct 2025) EndedAt: 2025-10-14 00:33:19 -0400 (Tue, 14 Oct 2025) EllapsedTime: 982.3 seconds RetCode: 0 Status: OK CheckDir: basecallQC.Rcheck Warnings: 0