Package: basecallQC Version: 1.32.0 Command: /home/biocbuild/R/R/bin/R CMD check --install=check:basecallQC.install-out.txt --library=/home/biocbuild/R/R/site-library --no-vignettes --timings basecallQC_1.32.0.tar.gz StartedAt: 2025-10-14 06:24:14 -0000 (Tue, 14 Oct 2025) EndedAt: 2025-10-14 06:34:44 -0000 (Tue, 14 Oct 2025) EllapsedTime: 630.7 seconds RetCode: 0 Status: OK CheckDir: basecallQC.Rcheck Warnings: 0