Package: barcodetrackR Version: 1.16.0 Command: E:\biocbuild\bbs-3.21-bioc\R\bin\R.exe CMD check --no-multiarch --install=check:barcodetrackR.install-out.txt --library=E:\biocbuild\bbs-3.21-bioc\R\library --no-vignettes --timings barcodetrackR_1.16.0.tar.gz StartedAt: 2025-08-14 23:35:52 -0400 (Thu, 14 Aug 2025) EndedAt: 2025-08-14 23:40:03 -0400 (Thu, 14 Aug 2025) EllapsedTime: 251.0 seconds RetCode: 0 Status: OK CheckDir: barcodetrackR.Rcheck Warnings: 0