Package: barcodetrackR Version: 1.16.0 Command: /home/biocbuild/bbs-3.21-bioc/R/bin/R CMD INSTALL barcodetrackR StartedAt: 2025-10-15 15:17:39 -0400 (Wed, 15 Oct 2025) EndedAt: 2025-10-15 15:18:04 -0400 (Wed, 15 Oct 2025) EllapsedTime: 25.1 seconds RetCode: 0 Status: OK