Package: barcodetrackR Version: 1.16.0 Command: /Library/Frameworks/R.framework/Resources/bin/R CMD build --keep-empty-dirs --no-resave-data barcodetrackR StartedAt: 2025-10-13 19:32:19 -0400 (Mon, 13 Oct 2025) EndedAt: 2025-10-13 19:33:55 -0400 (Mon, 13 Oct 2025) EllapsedTime: 96.0 seconds RetCode: 0 Status: OK PackageFile: barcodetrackR_1.16.0.tar.gz PackageFileSize: 3.562 MiB