Package: barcodetrackR Version: 1.16.0 Command: rm -rf barcodetrackR.buildbin-libdir && mkdir barcodetrackR.buildbin-libdir && /Users/biocbuild/BBS/utils/build-universal.sh barcodetrackR_1.16.0.tar.gz /Library/Frameworks/R.framework/Resources/bin/R barcodetrackR.buildbin-libdir StartedAt: 2025-10-15 17:29:33 -0400 (Wed, 15 Oct 2025) EndedAt: 2025-10-15 17:30:11 -0400 (Wed, 15 Oct 2025) EllapsedTime: 37.5 seconds RetCode: 0 Status: OK PackageFile: barcodetrackR_1.16.0.tgz PackageFileSize: 3.754 MiB