Package: barbieQ Version: 1.0.1 Command: /home/biocbuild/R/R/bin/R CMD INSTALL barbieQ StartedAt: 2025-10-13 20:34:27 -0000 (Mon, 13 Oct 2025) EndedAt: 2025-10-13 20:35:09 -0000 (Mon, 13 Oct 2025) EllapsedTime: 42.5 seconds RetCode: 0 Status: OK