Package: barbieQ Version: 1.0.1 Command: /home/biocbuild/R/R/bin/R CMD build --keep-empty-dirs --no-resave-data barbieQ StartedAt: 2025-10-13 22:44:31 -0000 (Mon, 13 Oct 2025) EndedAt: 2025-10-13 22:53:53 -0000 (Mon, 13 Oct 2025) EllapsedTime: 562.1 seconds RetCode: 0 Status: OK PackageFile: barbieQ_1.0.1.tar.gz PackageFileSize: 4.113 MiB