Package: barbieQ Version: 1.0.1 Command: /Library/Frameworks/R.framework/Resources/bin/R CMD check --install=check:barbieQ.install-out.txt --library=/Library/Frameworks/R.framework/Resources/library --no-vignettes --timings barbieQ_1.0.1.tar.gz StartedAt: 2025-10-14 13:27:08 -0400 (Tue, 14 Oct 2025) EndedAt: 2025-10-14 13:31:48 -0400 (Tue, 14 Oct 2025) EllapsedTime: 280.3 seconds RetCode: 0 Status: OK CheckDir: barbieQ.Rcheck Warnings: 0