Package: banocc Version: 1.32.0 Command: /home/biocbuild/bbs-3.21-bioc/R/bin/R CMD INSTALL banocc StartedAt: 2025-10-08 15:08:06 -0400 (Wed, 08 Oct 2025) EndedAt: 2025-10-08 15:08:34 -0400 (Wed, 08 Oct 2025) EllapsedTime: 27.8 seconds RetCode: 0 Status: OK