Package: banocc Version: 1.32.0 Command: /home/biocbuild/bbs-3.21-bioc/R/bin/R CMD build --keep-empty-dirs --no-resave-data banocc StartedAt: 2025-10-08 16:16:06 -0400 (Wed, 08 Oct 2025) EndedAt: 2025-10-08 16:19:01 -0400 (Wed, 08 Oct 2025) EllapsedTime: 175.1 seconds RetCode: 0 Status: OK PackageFile: banocc_1.32.0.tar.gz PackageFileSize: 26.01 MiB