Package: banocc Version: 1.32.0 Command: /Library/Frameworks/R.framework/Resources/bin/R CMD check --install=check:banocc.install-out.txt --library=/Library/Frameworks/R.framework/Resources/library --no-vignettes --timings banocc_1.32.0.tar.gz StartedAt: 2025-04-21 19:09:42 -0400 (Mon, 21 Apr 2025) EndedAt: 2025-04-21 19:11:53 -0400 (Mon, 21 Apr 2025) EllapsedTime: 131.6 seconds RetCode: 1 Status: ERROR CheckDir: banocc.Rcheck Warnings: NA