Package: banocc Version: 1.32.0 Command: /Library/Frameworks/R.framework/Resources/bin/R CMD build --keep-empty-dirs --no-resave-data banocc StartedAt: 2025-04-21 15:59:29 -0400 (Mon, 21 Apr 2025) EndedAt: 2025-04-21 16:01:44 -0400 (Mon, 21 Apr 2025) EllapsedTime: 135.9 seconds RetCode: 0 Status: OK PackageFile: banocc_1.32.0.tar.gz PackageFileSize: 26.05 MiB