Package: banocc Version: 1.32.0 Command: /home/biocbuild/R/R/bin/R CMD INSTALL banocc StartedAt: 2025-09-29 20:19:41 -0000 (Mon, 29 Sep 2025) EndedAt: 2025-09-29 20:20:19 -0000 (Mon, 29 Sep 2025) EllapsedTime: 37.7 seconds RetCode: 0 Status: OK