Package: banocc Version: 1.32.0 Command: /Library/Frameworks/R.framework/Resources/bin/R CMD build --keep-empty-dirs --no-resave-data banocc StartedAt: 2025-10-06 19:39:51 -0400 (Mon, 06 Oct 2025) EndedAt: 2025-10-06 19:42:15 -0400 (Mon, 06 Oct 2025) EllapsedTime: 143.7 seconds RetCode: 0 Status: OK PackageFile: banocc_1.32.0.tar.gz PackageFileSize: 26.09 MiB