Package: bandle Version: 1.12.0 Command: E:\biocbuild\bbs-3.21-bioc\R\bin\R.exe CMD check --no-multiarch --install=check:bandle.install-out.txt --library=E:\biocbuild\bbs-3.21-bioc\R\library --no-vignettes --timings bandle_1.12.0.tar.gz StartedAt: 2025-08-14 23:35:06 -0400 (Thu, 14 Aug 2025) EndedAt: 2025-08-14 23:48:17 -0400 (Thu, 14 Aug 2025) EllapsedTime: 790.6 seconds RetCode: 0 Status: WARNINGS CheckDir: bandle.Rcheck Warnings: 1