Package: bandle Version: 1.12.0 Command: /home/biocbuild/bbs-3.21-bioc/R/bin/R CMD INSTALL bandle StartedAt: 2025-10-05 15:38:08 -0400 (Sun, 05 Oct 2025) EndedAt: 2025-10-05 15:39:44 -0400 (Sun, 05 Oct 2025) EllapsedTime: 95.2 seconds RetCode: 0 Status: OK