Package: bandle Version: 1.12.0 Command: /home/biocbuild/bbs-3.21-bioc/R/bin/R CMD build --keep-empty-dirs --no-resave-data bandle StartedAt: 2025-10-05 16:15:41 -0400 (Sun, 05 Oct 2025) EndedAt: 2025-10-05 16:20:02 -0400 (Sun, 05 Oct 2025) EllapsedTime: 261.2 seconds RetCode: 0 Status: OK PackageFile: bandle_1.12.0.tar.gz PackageFileSize: 4.029 MiB