Package: bandle Version: 1.12.0 Command: rm -rf bandle.buildbin-libdir && mkdir bandle.buildbin-libdir && /Users/biocbuild/BBS/utils/build-universal.sh bandle_1.12.0.tar.gz /Library/Frameworks/R.framework/Resources/bin/R bandle.buildbin-libdir StartedAt: 2025-10-03 12:41:57 -0400 (Fri, 03 Oct 2025) EndedAt: 2025-10-03 12:45:24 -0400 (Fri, 03 Oct 2025) EllapsedTime: 207.4 seconds RetCode: 0 Status: OK PackageFile: bandle_1.12.0.tgz PackageFileSize: 4.838 MiB