Package: bandle Version: 1.12.0 Command: /home/biocbuild/R/R/bin/R CMD INSTALL bandle StartedAt: 2025-10-02 20:58:33 -0000 (Thu, 02 Oct 2025) EndedAt: 2025-10-02 21:00:52 -0000 (Thu, 02 Oct 2025) EllapsedTime: 139.3 seconds RetCode: 0 Status: OK