Package: bandle Version: 1.12.0 Command: /home/biocbuild/R/R/bin/R CMD build --keep-empty-dirs --no-resave-data bandle StartedAt: 2025-10-02 22:42:35 -0000 (Thu, 02 Oct 2025) EndedAt: 2025-10-02 22:49:14 -0000 (Thu, 02 Oct 2025) EllapsedTime: 399.1 seconds RetCode: 0 Status: OK PackageFile: bandle_1.12.0.tar.gz PackageFileSize: 3.811 MiB