Package: bandle Version: 1.12.0 Command: /Library/Frameworks/R.framework/Resources/bin/R CMD INSTALL bandle StartedAt: 2025-04-21 15:22:17 -0400 (Mon, 21 Apr 2025) EndedAt: 2025-04-21 15:22:51 -0400 (Mon, 21 Apr 2025) EllapsedTime: 33.6 seconds RetCode: 0 Status: OK