Package: bandle Version: 1.12.0 Command: /Library/Frameworks/R.framework/Resources/bin/R CMD build --keep-empty-dirs --no-resave-data bandle StartedAt: 2025-04-21 15:40:16 -0400 (Mon, 21 Apr 2025) EndedAt: 2025-04-21 15:41:50 -0400 (Mon, 21 Apr 2025) EllapsedTime: 94.1 seconds RetCode: 0 Status: OK PackageFile: bandle_1.12.0.tar.gz PackageFileSize: 4.192 MiB