Package: bandle Version: 1.12.0 Command: rm -rf bandle.buildbin-libdir && mkdir bandle.buildbin-libdir && /Users/biocbuild/BBS/utils/build-universal.sh bandle_1.12.0.tar.gz /Library/Frameworks/R.framework/Resources/bin/R bandle.buildbin-libdir StartedAt: 2025-04-21 22:26:45 -0400 (Mon, 21 Apr 2025) EndedAt: 2025-04-21 22:27:20 -0400 (Mon, 21 Apr 2025) EllapsedTime: 35.7 seconds RetCode: 0 Status: OK PackageFile: bandle_1.12.0.tgz PackageFileSize: 4.826 MiB