Package: bandle Version: 1.12.0 Command: /Library/Frameworks/R.framework/Resources/bin/R CMD INSTALL bandle StartedAt: 2025-10-02 17:08:00 -0400 (Thu, 02 Oct 2025) EndedAt: 2025-10-02 17:09:41 -0400 (Thu, 02 Oct 2025) EllapsedTime: 100.9 seconds RetCode: 0 Status: OK