Package: bandle Version: 1.12.0 Command: /Library/Frameworks/R.framework/Resources/bin/R CMD check --install=check:bandle.install-out.txt --library=/Library/Frameworks/R.framework/Resources/library --no-vignettes --timings bandle_1.12.0.tar.gz StartedAt: 2025-10-03 13:15:40 -0400 (Fri, 03 Oct 2025) EndedAt: 2025-10-03 13:27:01 -0400 (Fri, 03 Oct 2025) EllapsedTime: 681.2 seconds RetCode: 0 Status: WARNINGS CheckDir: bandle.Rcheck Warnings: 1