Package: bandle Version: 1.12.0 Command: /Library/Frameworks/R.framework/Resources/bin/R CMD build --keep-empty-dirs --no-resave-data bandle StartedAt: 2025-10-02 19:29:39 -0400 (Thu, 02 Oct 2025) EndedAt: 2025-10-02 19:34:19 -0400 (Thu, 02 Oct 2025) EllapsedTime: 280.1 seconds RetCode: 0 Status: OK PackageFile: bandle_1.12.0.tar.gz PackageFileSize: 4.184 MiB