Package: bamsignals Version: 1.40.0 Command: E:\biocbuild\bbs-3.21-bioc\R\bin\R.exe CMD INSTALL bamsignals StartedAt: 2025-08-14 15:49:35 -0400 (Thu, 14 Aug 2025) EndedAt: 2025-08-14 15:50:26 -0400 (Thu, 14 Aug 2025) EllapsedTime: 51.8 seconds RetCode: 0 Status: OK