Package: bamsignals Version: 1.40.0 Command: rm -rf bamsignals.buildbin-libdir && mkdir bamsignals.buildbin-libdir && E:\biocbuild\bbs-3.21-bioc\R\bin\R.exe CMD INSTALL --build --library=bamsignals.buildbin-libdir bamsignals_1.40.0.tar.gz StartedAt: 2025-08-15 08:47:50 -0400 (Fri, 15 Aug 2025) EndedAt: 2025-08-15 08:48:38 -0400 (Fri, 15 Aug 2025) EllapsedTime: 48.9 seconds RetCode: 0 Status: OK PackageFile: bamsignals_1.40.0.zip PackageFileSize: 6.95 MiB