Package: bamsignals Version: 1.40.0 Command: /home/biocbuild/bbs-3.21-bioc/R/bin/R CMD check --install=check:bamsignals.install-out.txt --library=/home/biocbuild/bbs-3.21-bioc/R/site-library --timings bamsignals_1.40.0.tar.gz StartedAt: 2025-10-15 20:55:35 -0400 (Wed, 15 Oct 2025) EndedAt: 2025-10-15 20:57:18 -0400 (Wed, 15 Oct 2025) EllapsedTime: 103.1 seconds RetCode: 0 Status: OK CheckDir: bamsignals.Rcheck Warnings: 0