Package: bamsignals Version: 1.40.0 Command: /Library/Frameworks/R.framework/Resources/bin/R CMD build --keep-empty-dirs --no-resave-data bamsignals StartedAt: 2025-04-21 15:59:07 -0400 (Mon, 21 Apr 2025) EndedAt: 2025-04-21 15:59:43 -0400 (Mon, 21 Apr 2025) EllapsedTime: 36.5 seconds RetCode: 0 Status: OK PackageFile: bamsignals_1.40.0.tar.gz PackageFileSize: 3.15 MiB