Package: bamsignals Version: 1.40.0 Command: /home/biocbuild/R/R/bin/R CMD INSTALL bamsignals StartedAt: 2025-10-13 20:27:28 -0000 (Mon, 13 Oct 2025) EndedAt: 2025-10-13 20:28:00 -0000 (Mon, 13 Oct 2025) EllapsedTime: 31.5 seconds RetCode: 0 Status: OK