Package: bamsignals Version: 1.40.0 Command: /Library/Frameworks/R.framework/Resources/bin/R CMD check --install=check:bamsignals.install-out.txt --library=/Library/Frameworks/R.framework/Resources/library --no-vignettes --timings bamsignals_1.40.0.tar.gz StartedAt: 2025-10-14 13:22:14 -0400 (Tue, 14 Oct 2025) EndedAt: 2025-10-14 13:24:13 -0400 (Tue, 14 Oct 2025) EllapsedTime: 118.4 seconds RetCode: 0 Status: OK CheckDir: bamsignals.Rcheck Warnings: 0