Package: ballgown Version: 2.40.0 Command: rm -rf ballgown.buildbin-libdir && mkdir ballgown.buildbin-libdir && E:\biocbuild\bbs-3.21-bioc\R\bin\R.exe CMD INSTALL --build --library=ballgown.buildbin-libdir ballgown_2.40.0.tar.gz StartedAt: 2025-08-15 08:47:47 -0400 (Fri, 15 Aug 2025) EndedAt: 2025-08-15 08:49:05 -0400 (Fri, 15 Aug 2025) EllapsedTime: 78.6 seconds RetCode: 0 Status: OK PackageFile: ballgown_2.40.0.zip PackageFileSize: 3.248 MiB