Package: ballgown Version: 2.40.0 Command: /home/biocbuild/R/R/bin/R CMD check --install=check:ballgown.install-out.txt --library=/home/biocbuild/R/R/site-library --no-vignettes --timings ballgown_2.40.0.tar.gz StartedAt: 2025-10-10 06:17:02 -0000 (Fri, 10 Oct 2025) EndedAt: 2025-10-10 06:26:04 -0000 (Fri, 10 Oct 2025) EllapsedTime: 542.5 seconds RetCode: 0 Status: OK CheckDir: ballgown.Rcheck Warnings: 0