Package: ballgown Version: 2.40.0 Command: /Library/Frameworks/R.framework/Resources/bin/R CMD build --keep-empty-dirs --no-resave-data ballgown StartedAt: 2025-04-21 15:40:05 -0400 (Mon, 21 Apr 2025) EndedAt: 2025-04-21 15:40:28 -0400 (Mon, 21 Apr 2025) EllapsedTime: 23.3 seconds RetCode: 0 Status: OK PackageFile: ballgown_2.40.0.tar.gz PackageFileSize: 3.081 MiB