Package: ballgown Version: 2.40.0 Command: /Library/Frameworks/R.framework/Resources/bin/R CMD check --install=check:ballgown.install-out.txt --library=/Library/Frameworks/R.framework/Resources/library --no-vignettes --timings ballgown_2.40.0.tar.gz StartedAt: 2025-10-14 13:18:49 -0400 (Tue, 14 Oct 2025) EndedAt: 2025-10-14 13:26:03 -0400 (Tue, 14 Oct 2025) EllapsedTime: 434.2 seconds RetCode: 0 Status: OK CheckDir: ballgown.Rcheck Warnings: 0