Package: ballgown Version: 2.40.0 Maintainer: Jack Fu MaintainerEmail: jmfu at jhsph.edu git_url: https://git.bioconductor.org/packages/ballgown git_branch: RELEASE_3_21 git_last_commit: 7f6c5c9 git_last_commit_date: 2025-04-15 10:32:48 -0400 (Tue, 15 Apr 2025)