Package: bacon Version: 1.36.0 Command: E:\biocbuild\bbs-3.21-bioc\R\bin\R.exe CMD INSTALL bacon StartedAt: 2025-08-14 15:27:15 -0400 (Thu, 14 Aug 2025) EndedAt: 2025-08-14 15:27:38 -0400 (Thu, 14 Aug 2025) EllapsedTime: 23.0 seconds RetCode: 0 Status: OK