Package: bacon Version: 1.36.0 Command: /Library/Frameworks/R.framework/Resources/bin/R CMD check --install=check:bacon.install-out.txt --library=/Library/Frameworks/R.framework/Resources/library --no-vignettes --timings bacon_1.36.0.tar.gz StartedAt: 2025-10-14 00:12:12 -0400 (Tue, 14 Oct 2025) EndedAt: 2025-10-14 00:14:11 -0400 (Tue, 14 Oct 2025) EllapsedTime: 119.6 seconds RetCode: 0 Status: OK CheckDir: bacon.Rcheck Warnings: 0