Package: awst Version: 1.16.0 Command: /home/biocbuild/bbs-3.21-bioc/R/bin/R CMD build --keep-empty-dirs --no-resave-data awst StartedAt: 2025-10-15 16:14:36 -0400 (Wed, 15 Oct 2025) EndedAt: 2025-10-15 16:15:20 -0400 (Wed, 15 Oct 2025) EllapsedTime: 44.0 seconds RetCode: 0 Status: OK PackageFile: awst_1.16.0.tar.gz PackageFileSize: 421.5 KiB