Package: awst Version: 1.16.0 Command: /Library/Frameworks/R.framework/Resources/bin/R CMD check --install=check:awst.install-out.txt --library=/Library/Frameworks/R.framework/Resources/library --no-vignettes --timings awst_1.16.0.tar.gz StartedAt: 2025-04-21 19:08:01 -0400 (Mon, 21 Apr 2025) EndedAt: 2025-04-21 19:10:49 -0400 (Mon, 21 Apr 2025) EllapsedTime: 168.2 seconds RetCode: 0 Status: OK CheckDir: awst.Rcheck Warnings: 0